BEGIN:VCALENDAR
VERSION:2.0
PRODID:-//Tukios.com/
BEGIN:VEVENT
UID:85092fc0-70ff-4078-9a45-cfc854eb16a7@www.graumlichfuneralhome.com
DTSTAMP:20260424T020326Z
DTSTART:20260428T200000Z
DTEND:20260428T230000Z
SUMMARY:Visitation
DESCRIPTION:
URL:https://www.graumlichfuneralhome.com/obituaries/patricia-clifton
LOCATION:GRAUMLICH FUNERAL HOME 1351 South High Street  Columbus OH 43207
GEO:39.9344482;-82.9964137
END:VEVENT
END:VCALENDAR