BEGIN:VCALENDAR
VERSION:2.0
PRODID:-//Tukios.com/
BEGIN:VEVENT
UID:5ccb12cf-c5f0-43d1-b627-54bc8b55514e@www.graumlichfuneralhome.com
DTSTAMP:20260424T020553Z
DTSTART:20260429T143000Z
DTEND:20260429T153000Z
SUMMARY:Funeral Service
DESCRIPTION:
URL:https://www.graumlichfuneralhome.com/obituaries/patricia-clifton
LOCATION:GRAUMLICH FUNERAL HOME 1351 South High Street  Columbus OH 43207
GEO:39.9344482;-82.9964137
END:VEVENT
END:VCALENDAR