BEGIN:VCALENDAR
VERSION:2.0
PRODID:-//Tukios.com/
BEGIN:VEVENT
UID:8405be85-5df1-41bb-a850-5b31f4dd5454@www.graumlichfuneralhome.com
DTSTAMP:20260424T020857Z
DTSTART:20260429
SUMMARY:Interment
DESCRIPTION:
URL:https://www.graumlichfuneralhome.com/obituaries/patricia-clifton
LOCATION:Obetz Cemetery 4455 Groveport Road  Obetz OH 43207
GEO:39.8754599;-82.947792
END:VEVENT
END:VCALENDAR