BEGIN:VCALENDAR
VERSION:2.0
PRODID:-//Tukios.com/
BEGIN:VEVENT
UID:a6082e62-b526-45d8-921e-a254696e59f8@www.graumlichfuneralhome.com
DTSTAMP:20260420T004336Z
DTSTART:20260422
SUMMARY:Interment
DESCRIPTION:
URL:https://www.graumlichfuneralhome.com/obituaries/alene-roof
LOCATION: 5501 Union St  Circleville OH 43113
GEO:39.710082;-82.989526
END:VEVENT
END:VCALENDAR