BEGIN:VCALENDAR
VERSION:2.0
PRODID:-//Tukios.com/
BEGIN:VEVENT
UID:0f1ed3ba-1d89-4fe6-b38e-7648d90223aa@www.graumlichfuneralhome.com
DTSTAMP:20260420T004951Z
DTSTART:20260422T140000Z
DTEND:20260422T160000Z
SUMMARY:Visitation
DESCRIPTION:
URL:https://www.graumlichfuneralhome.com/obituaries/alene-roof
LOCATION:GRAUMLICH FUNERAL HOME 1351 South High Street  Columbus OH 43207
GEO:39.9344482;-82.9964137
END:VEVENT
END:VCALENDAR