BEGIN:VCALENDAR
VERSION:2.0
PRODID:-//Tukios.com/
BEGIN:VEVENT
UID:4cbb7699-8db7-43ff-8144-17978bc22901@www.graumlichfuneralhome.com
DTSTAMP:20260420T004740Z
DTSTART:20260422T160000Z
DTEND:20260422T170000Z
SUMMARY:Funeral Service
DESCRIPTION:
URL:https://www.graumlichfuneralhome.com/obituaries/alene-roof
LOCATION:GRAUMLICH FUNERAL HOME 1351 South High Street  Columbus OH 43207
GEO:39.9344482;-82.9964137
END:VEVENT
END:VCALENDAR